BEGIN:VCALENDAR
VERSION:2.0
PRODID:-//wp-events-plugin.com//7.1.7//EN
TZID:Europe/Paris
X-WR-TIMEZONE:Europe/Paris
BEGIN:VEVENT
UID:0-1582@villeneuve92.com
DTSTART;TZID=Europe/Paris:20260418T203000
DTEND;TZID=Europe/Paris:20260418T223500
DTSTAMP:20260418T184010Z
URL:https://villeneuve92.com/?post_type=event&p=81361
SUMMARY:Il maestro
DESCRIPTION:De Andréa Di Stefano Avec : Pierfrancesco Favino\, Tiziano Men
 icheli\, Giovanni LudenoDurée : 2h05\nSynopsis \nAnnées 1980\, un ancien
  joueur de tennis devient l'entraîneur d'un jeune talent timide\, écras
 é par les attentes de son père.\nVoir la bande d'annonce \nhttps://www.y
 outube.com/watch?v=y0ri1MnJix0\nVidéo YouTube - Bande d'annonce du film I
 l maestro \nTarifs\nPlein tarif :&nbsp\;5 €Ciné-concert :&nbsp\;6 €Ta
 rif réduit sur justificatif&nbsp\;:&nbsp\;3 € (écoliers\, collégiens\
 , lycéens\, étudiants\, demandeurs d’emploi\, seniors de + 65 ans\, ag
 ents communaux)Dispositifs écoles\, collèges\, lycées au cinéma&nbsp\;
 :&nbsp\;2\,50 €Tout-petits de 1 à 3 ans&nbsp\;:&nbsp\;GratuitGroupes sc
 olaires :&nbsp\;2 €Ciné conférence&nbsp\;:&nbsp\;7 €Accompagnateur d
 e groupes&nbsp\;:&nbsp\;gratuitRéservation obligatoire pour les groupes.
ATTACH;FMTTYPE=image/jpeg:https://villeneuve92.com/app/uploads/1/2026/03/4
 08x272_IL-MAESTRO.jpg
CATEGORIES:Cinéma
LOCATION:29 avenue de Verdun \, France
X-APPLE-STRUCTURED-LOCATION;VALUE=URI;X-ADDRESS=29 avenue de Verdun \, Fran
 ce;X-APPLE-RADIUS=100;X-TITLE=:geo:0,0
END:VEVENT
BEGIN:VTIMEZONE
TZID:Europe/Paris
X-LIC-LOCATION:Europe/Paris
BEGIN:DAYLIGHT
DTSTART:20260329T030000
TZOFFSETFROM:+0100
TZOFFSETTO:+0200
TZNAME:CEST
END:DAYLIGHT
END:VTIMEZONE
END:VCALENDAR