BEGIN:VCALENDAR
VERSION:2.0
PRODID:-//wp-events-plugin.com//7.1.7//EN
TZID:Europe/Paris
X-WR-TIMEZONE:Europe/Paris
BEGIN:VEVENT
UID:0-1412@villeneuve92.com
DTSTART;TZID=Europe/Paris;VALUE=DATE:20260401
DTEND;TZID=Europe/Paris;VALUE=DATE:20260501
DTSTAMP:20260318T135844Z
URL:https://villeneuve92.com/evenements/le-japon-traditions-et-modernite/
SUMMARY:Le Japon : traditions et modernité
DESCRIPTION:Venez découvrir les traditions du Japon à travers diverses an
 imations à la bibliothèque Aimé-Césaire.\nExposition "Le Japon : tradi
 tions et modernité" et "la cérémonie du thé"\nDu 1er au 30 avril\nEntr
 e cérémonies séculaires et technologies de pointe\, le Japon fascine pa
 r sa capacité à unir passé et futur.\nCette exposition vous invite à p
 arcourir ce territoire d’harmonie et de contrastes !\nTOUT PUBLICENTRÉE
  LIBRE\nLes p'tits artistes... créent un poisson d'avril japonais !\nMerc
 redi 1er avril à 15h\nViens créer une décoration inspirée des carpes k
 oï !\nÀ PARTIR DE 7 ANSSUR INSCRIPTION.\nGoûter musical\nMercredi 8 avr
 il à 17h\nÉcoutes musicales pour jeune public suivies d’un goûter. Ce
 tte séance d'écoutes musicales sera sur le thème des musiques au son du
  Japon.\nÀ PARTIR DE 5 ANSSUR INSCRIPTION\nIl était une toute petite foi
 s\nSamedi 11 et mercredi 15 avril à 10h30\nLectures d’albums et comptin
 es pour les tout-petits sur le thème du Japon ! 2 séances sont proposée
 s ! \nPOUR LES MOINS DE 4 ANSSUR INSCRIPTION.\nLes p'tits lus... voyagent 
 au Japon !\nMercredi 15 avril à 15h\nLa bibliothèque propose aux enfants
  de 4 à 8 ans\, des lectures d'albums sur le thème du Japon !\nPOUR LES 
 4-8 ANSSUR INSCRIPTION.\nDégustation de thé matcha \nSamedi 18 avril à 
 15h\nEntre tradition et découverte venez déguster un thé matcha et red
 écouvrez les saveurs du Japon.\nAtelier Manga\nMercredi 22 avril à 15h\n
 Afin d’apprendre à créer un manga\, découvrez le langage\, les codes 
 et les œuvres phares de ce genre littéraire venu du Japon\, en réalisan
 t une planche autour des Samouraïs et des arts martiaux !\nAtelier animé
  par un conférencier du musée du quai Branly - Jacques Chirac.\nÀ PARTI
 R DE 11 ANSSUR INSCRIPTION\nAtelier Kamishibaï\nMercredi 29 avril à 15h\
 nLe Kamishibaï ou littéralement « jeu théâtral en papier » est une 
 technique de narration d’origine japonaise\, une sorte de théâtre ambu
 lant\, qu’utilisaient originairement des conteurs de rue pour raconter d
 es histoires aux enfants en glissant des planches illustrées dans un cast
 elet en bois : le butaï. Laissez-vous transporter par cet art encore bien
  vivant au Japon !\nAtelier animé par un conférencier du musée du quai 
 Branly - Jacques Chirac.\nFAMILLE ET ENFANTS DE 6 À 11 ANSSUR INSCRIPTION
ATTACH;FMTTYPE=image/jpeg:https://villeneuve92.com/app/uploads/2025/01/jap
 onais.jpg
CATEGORIES:Bibliothèque
LOCATION:23 quai d'Asnières\, France
X-APPLE-STRUCTURED-LOCATION;VALUE=URI;X-ADDRESS=23 quai d'Asnières\, Franc
 e;X-APPLE-RADIUS=100;X-TITLE=:geo:0,0
END:VEVENT
BEGIN:VTIMEZONE
TZID:Europe/Paris
X-LIC-LOCATION:Europe/Paris
BEGIN:DAYLIGHT
DTSTART:20260329T030000
TZOFFSETFROM:+0100
TZOFFSETTO:+0200
TZNAME:CEST
END:DAYLIGHT
END:VTIMEZONE
END:VCALENDAR